BEGIN:VCALENDAR
VERSION:2.0
PRODID:-//Metamorphysique - ECPv6.15.20//NONSGML v1.0//EN
CALSCALE:GREGORIAN
METHOD:PUBLISH
X-WR-CALNAME:Metamorphysique
X-ORIGINAL-URL:https://metamorphysique.com
X-WR-CALDESC:Events for Metamorphysique
REFRESH-INTERVAL;VALUE=DURATION:PT1H
X-Robots-Tag:noindex
X-PUBLISHED-TTL:PT1H
BEGIN:VTIMEZONE
TZID:America/Denver
BEGIN:DAYLIGHT
TZOFFSETFROM:-0700
TZOFFSETTO:-0600
TZNAME:MDT
DTSTART:20210314T090000
END:DAYLIGHT
BEGIN:STANDARD
TZOFFSETFROM:-0600
TZOFFSETTO:-0700
TZNAME:MST
DTSTART:20211107T080000
END:STANDARD
BEGIN:DAYLIGHT
TZOFFSETFROM:-0700
TZOFFSETTO:-0600
TZNAME:MDT
DTSTART:20220313T090000
END:DAYLIGHT
BEGIN:STANDARD
TZOFFSETFROM:-0600
TZOFFSETTO:-0700
TZNAME:MST
DTSTART:20221106T080000
END:STANDARD
BEGIN:DAYLIGHT
TZOFFSETFROM:-0700
TZOFFSETTO:-0600
TZNAME:MDT
DTSTART:20230312T090000
END:DAYLIGHT
BEGIN:STANDARD
TZOFFSETFROM:-0600
TZOFFSETTO:-0700
TZNAME:MST
DTSTART:20231105T080000
END:STANDARD
END:VTIMEZONE
BEGIN:VEVENT
DTSTART;TZID=America/Denver:20221202T163000
DTEND;TZID=America/Denver:20221202T173000
DTSTAMP:20260423T051401
CREATED:20221026T100707Z
LAST-MODIFIED:20221220T205026Z
UID:10000004-1669998600-1670002200@metamorphysique.com
SUMMARY:Pilates
DESCRIPTION:
URL:https://metamorphysique.com/event/pilates/2022-12-02/
CATEGORIES:Pilates
ATTACH;FMTTYPE=image/jpeg:https://metamorphysique.com/wp-content/uploads/2022/10/metamorphysique.net-57695265388737080.jpg
END:VEVENT
BEGIN:VEVENT
DTSTART;TZID=America/Denver:20221201T163000
DTEND;TZID=America/Denver:20221201T173000
DTSTAMP:20260423T051401
CREATED:20221026T100707Z
LAST-MODIFIED:20221220T205026Z
UID:10000003-1669912200-1669915800@metamorphysique.com
SUMMARY:Pilates
DESCRIPTION:
URL:https://metamorphysique.com/event/pilates/2022-12-01/
CATEGORIES:Pilates
ATTACH;FMTTYPE=image/jpeg:https://metamorphysique.com/wp-content/uploads/2022/10/metamorphysique.net-57695265388737080.jpg
END:VEVENT
BEGIN:VEVENT
DTSTART;TZID=America/Denver:20221129T163000
DTEND;TZID=America/Denver:20221129T173000
DTSTAMP:20260423T051401
CREATED:20221026T100707Z
LAST-MODIFIED:20221220T205026Z
UID:10000002-1669739400-1669743000@metamorphysique.com
SUMMARY:Pilates
DESCRIPTION:
URL:https://metamorphysique.com/event/pilates/2022-11-29/
CATEGORIES:Pilates
ATTACH;FMTTYPE=image/jpeg:https://metamorphysique.com/wp-content/uploads/2022/10/metamorphysique.net-57695265388737080.jpg
END:VEVENT
BEGIN:VEVENT
DTSTART;TZID=America/Denver:20221125T163000
DTEND;TZID=America/Denver:20221125T173000
DTSTAMP:20260423T051401
CREATED:20221026T100707Z
LAST-MODIFIED:20221220T205026Z
UID:10000001-1669393800-1669397400@metamorphysique.com
SUMMARY:Pilates
DESCRIPTION:
URL:https://metamorphysique.com/event/pilates/2022-11-25/
CATEGORIES:Pilates
ATTACH;FMTTYPE=image/jpeg:https://metamorphysique.com/wp-content/uploads/2022/10/metamorphysique.net-57695265388737080.jpg
END:VEVENT
END:VCALENDAR